BEGIN:VCALENDAR
VERSION:2.0
PRODID:-//ChamberMaster//Event Calendar 2.0//EN
METHOD:PUBLISH
X-PUBLISHED-TTL:P3D
REFRESH-INTERVAL:P3D
CALSCALE:GREGORIAN
BEGIN:VEVENT
DTSTART;VALUE=DATE:20260422
DTEND;VALUE=DATE:20260921
TRANSP:TRANSPARENT
X-MICROSOFT-CDO-ALLDAYEVENT:TRUE
SUMMARY:SHENiTE CALENDAR
DESCRIPTION:SHENiTERS\, save our dates from May thru September 2026. The planets have aligned\, and your favorite DJs are ready to take over the rooftop!
X-ALT-DESC;FMTTYPE=text/html:SHENiTERS\, save our dates from&nbsp\;May thru September 2026. The planets have aligned\, and your favorite DJs are ready to take over the rooftop!
LOCATION:The Twisted Tonic 723 Lincoln Lane N #103 Miami Beach\, FL 33139
UID:e.1580.34396
SEQUENCE:3
DTSTAMP:20260423T181423Z
URL:http://business.gaybizmiami.com/events/details/shenite-calendar-34396
END:VEVENT

END:VCALENDAR
