BEGIN:VCALENDAR
VERSION:2.0
PRODID:-//ChamberMaster//Event Calendar 2.0//EN
METHOD:PUBLISH
X-PUBLISHED-TTL:P3D
REFRESH-INTERVAL:P3D
CALSCALE:GREGORIAN
BEGIN:VEVENT
DTSTART:20260506T220000Z
DTEND:20260506T233000Z
X-MICROSOFT-CDO-ALLDAYEVENT:FALSE
SUMMARY:Neurodiversity Awareness and Best Practices
DESCRIPTION:Neurodiverse youth and adults bring distinct strengths\, perspectives\, and experiences to every space they inhabit. As awareness continues to grow\, more people seek to understand how to create spaces that center belonging and inclusivity for all.\n\nThis interactive workshop builds foundational knowledge about neurodiversity through a strengths-based lens\, covering practical adaptations for inclusion and support across home\, school\, and clinical settings. Participants hear directly from neurodiverse individuals and their family members through personal stories and Q&A sessions\, grounding research-based best practices in real-world experiences.\n\nThe workshop also addresses mental health considerations\, including self-harm\, depression\, and the co-occurrence of autism and gender dysphoria\, and how best to support young people and adults with intersecting identities who are navigating multiple systems at once.\n\nLEARNING OBJECTIVES \n\n\n	List and describe several main categories of diagnoses associated with neuroatypical experiences. \n	Explain and express the strengths and contributions commonly associated with several main categories of neurodiversity. \n	Discuss and identify salient examples of neurodiversity inclusion vs. exclusion from the guest speaker's life experiences during the interactive Q&A segment of the presentation. \n	Analyze and plan best practices for inclusive\, safe\, and supportive interactions within a variety of contexts (families\, coworkers\, customer service\, healthcare services\, etc.)
X-ALT-DESC;FMTTYPE=text/html:<p>Neurodiverse youth and adults bring distinct strengths\, perspectives\, and experiences to every space they inhabit. As awareness continues to grow\, more people seek to understand how to create spaces that center belonging and inclusivity for all.</p>\n\n<p>This interactive workshop builds foundational knowledge about neurodiversity through a strengths-based lens\, covering practical adaptations for inclusion and support across home\, school\, and clinical settings. Participants hear directly from neurodiverse individuals and their family members through personal stories and Q&amp\;A sessions\, grounding research-based best practices in real-world experiences.</p>\n\n<p>The workshop also addresses mental health considerations\, including self-harm\, depression\, and the co-occurrence of autism and gender dysphoria\, and how best to support young people and adults with intersecting identities who are navigating multiple systems at once.</p>\n\n<p><strong>LEARNING OBJECTIVES&nbsp\;</strong></p>\n\n<ol>\n	<li>List and describe several main categories of diagnoses associated with neuroatypical experiences.&nbsp\;</li>\n	<li>Explain and express the strengths and contributions commonly associated with several main categories of neurodiversity.&nbsp\;</li>\n	<li>Discuss and identify salient examples of neurodiversity inclusion vs. exclusion from the guest speaker&rsquo\;s life experiences during the interactive Q&amp\;A segment of the presentation.&nbsp\;</li>\n	<li>Analyze and plan best practices for inclusive\, safe\, and supportive interactions within a variety of contexts (families\, coworkers\, customer service\, healthcare services\, etc.)&nbsp\;</li>\n</ol>\n
LOCATION:Delivered on Zoom
UID:e.1580.34393
SEQUENCE:3
DTSTAMP:20260422T205639Z
URL:http://business.gaybizmiami.com/events/details/neurodiversity-awareness-and-best-practices-34393
END:VEVENT

END:VCALENDAR
