BEGIN:VCALENDAR
VERSION:2.0
PRODID:-//ChamberMaster//Event Calendar 2.0//EN
METHOD:PUBLISH
X-PUBLISHED-TTL:P3D
REFRESH-INTERVAL:P3D
CALSCALE:GREGORIAN
BEGIN:VEVENT
DTSTART:20260521T133000Z
DTEND:20260521T150000Z
X-MICROSOFT-CDO-ALLDAYEVENT:FALSE
SUMMARY:IKEA Miami Women's Financial Wellness Breakfast
DESCRIPTION:Join us for an inspiring morning at IKEA Miami as we gather women professionals\, entrepreneurs\, and allies for a Women's Financial Wellness Breakfast in partnership with the Miami-Dade Gay & Lesbian Chamber of Commerce. Enjoy tea and coffee with some light bites\, develop meaningful connections\, and learn practical insights focused on building financial confidence and well-being.\n\n\n\nThis inclusive event offers the opportunity to network with like-minded leaders\, learn from financial wellness experts\, and walk away with actionable tools to support your personal and professional goals. Start your day empowered\, informed\, and connected!\n\n\n\nAs this event takes place prior to store opening\, please park at P2/ground level and make your way up the co-worker stairwell to sign-in with our reception desk.
X-ALT-DESC;FMTTYPE=text/html:<span style="color:rgb(72\, 72\, 72)\; font-family:noto ikea\,noto sans\,roboto\,open sans\,system-ui\,sans-serif\; font-size:14px">Join us for an inspiring morning at IKEA Miami as we gather women professionals\, entrepreneurs\, and allies for a Women&rsquo\;s Financial Wellness Breakfast in partnership with the Miami-Dade Gay &amp\; Lesbian Chamber of Commerce. Enjoy tea and coffee with some light bites\, develop meaningful connections\, and learn practical insights focused on building financial confidence and well-being.<br />\n<br />\nThis inclusive event offers the opportunity to network with like-minded leaders\, learn from financial wellness experts\, and walk away with actionable tools to support your personal and professional goals. Start your day empowered\, informed\, and connected!<br />\n<br />\nAs this event takes place prior to store opening\, please park at P2/ground level and make your way up the co-worker stairwell to sign-in with our reception desk.</span>
LOCATION:IKEA Miami 1801 NW 117th Ave Sweetwater\, FL 33172
UID:e.1580.34390
SEQUENCE:3
DTSTAMP:20260420T185857Z
URL:http://business.gaybizmiami.com/events/details/ikea-miami-women-s-financial-wellness-breakfast-34390
END:VEVENT

END:VCALENDAR
